BEGIN:VCALENDAR
VERSION:2.0
PRODID:-//Irish Ocean Literacy Network - ECPv6.15.20//NONSGML v1.0//EN
CALSCALE:GREGORIAN
METHOD:PUBLISH
X-WR-CALNAME:Irish Ocean Literacy Network
X-ORIGINAL-URL:https://ioln.ie
X-WR-CALDESC:Events for Irish Ocean Literacy Network
REFRESH-INTERVAL;VALUE=DURATION:PT1H
X-Robots-Tag:noindex
X-PUBLISHED-TTL:PT1H
BEGIN:VTIMEZONE
TZID:Europe/London
BEGIN:DAYLIGHT
TZOFFSETFROM:+0000
TZOFFSETTO:+0100
TZNAME:BST
DTSTART:20250330T010000
END:DAYLIGHT
BEGIN:STANDARD
TZOFFSETFROM:+0100
TZOFFSETTO:+0000
TZNAME:GMT
DTSTART:20251026T010000
END:STANDARD
BEGIN:DAYLIGHT
TZOFFSETFROM:+0000
TZOFFSETTO:+0100
TZNAME:BST
DTSTART:20260329T010000
END:DAYLIGHT
BEGIN:STANDARD
TZOFFSETFROM:+0100
TZOFFSETTO:+0000
TZNAME:GMT
DTSTART:20261025T010000
END:STANDARD
BEGIN:DAYLIGHT
TZOFFSETFROM:+0000
TZOFFSETTO:+0100
TZNAME:BST
DTSTART:20270328T010000
END:DAYLIGHT
BEGIN:STANDARD
TZOFFSETFROM:+0100
TZOFFSETTO:+0000
TZNAME:GMT
DTSTART:20271031T010000
END:STANDARD
END:VTIMEZONE
BEGIN:VEVENT
DTSTART;VALUE=DATE:20260423
DTEND;VALUE=DATE:20260424
DTSTAMP:20260419T144348
CREATED:20260311T085518Z
LAST-MODIFIED:20260415T085208Z
UID:3638-1776902400-1776988799@ioln.ie
SUMMARY:Marine Identity: Charting our past to navigate our future
DESCRIPTION:The IOLN is delighted to join with Údarás na Gaeltachta and Meitheal Pleanála Teanga An Iarthuaiscirt to host this Irish language event in the Donegal Gaeltacht. \nHow does our rich maritime heritage shape our economic future? Join us for “Marine Identity: Charting our past to navigate our future\,” a dedicated forum exploring the intersection of tradition\, resilience\, and sustainable opportunity in the Donegal Gaeltacht. \nFrom heritage fishing to the evolving Blue Economy\, we are bringing together key voices from the local community\, Údarás na Gaeltachta\, local industry\, education and tourism to discuss how our deep-rooted connection to the ocean can empower our community today. \n🗓 When: 23 April 2026 \n📍 Where: Caisleáin Óir\, Annagry \n🕒 Starts: 09:30 AM (Registration with tea and coffee) \n  \nHighlights include Keynote speakers from: \n\nÚdarás na Gaeltachta: Supporting Gaeltacht communities in the Blue Economy.\nLocal community: Celebrating local knowledge and ‘An tsaile san fhuil’.\nPanel Discussion: A multi-disciplinary look at folklore\, fisheries\, and future innovation.\n\n  \nNetwork with leaders in community\, aquaculture\, tourism\, and education as we bridge the gap between our history and our future.
URL:https://ioln.ie/event/charting-the-course-for-the-donegal-gaeltachts-blue-economy/
ATTACH;FMTTYPE=image/jpeg:https://ioln.ie/wp-content/uploads/2026/03/Save-the-date-1.jpg
END:VEVENT
BEGIN:VEVENT
DTSTART;TZID=Europe/London:20260429T093000
DTEND;TZID=Europe/London:20260429T153000
DTSTAMP:20260419T144348
CREATED:20260323T112516Z
LAST-MODIFIED:20260323T112516Z
UID:3815-1777455000-1777476600@ioln.ie
SUMMARY:Exploring Marine Identity at Strangford Lough
DESCRIPTION:Strangford Lough carries a rich maritime culture and tradition — life on the Lough\, the Irish Sea\, and the fishing industry woven through generations. Alongside that heritage\, this coastline has been a hub of marine research\, biodiversity work\, and community-led conservation\, with the Queen’s University Marine Laboratory — celebrating 80 years — among those who have shaped it. \nAs part of Shared Island & Ocean\, IOLN’s all-island initiative with Queen’s University Belfast\, we’re hosting a community dialogue event at The Narrows\, Portaferry to bring both threads to the fore. The morning focuses on the stories\, traditions\, and local knowledge of this place. The afternoon looks at what comes next — restoration\, regeneration\, biodiversity\, and the research and projects already driving change along this coastline. Keynote speakers\, local voices\, and practitioners across fisheries\, heritage\, marine science\, and environmental recovery. \n  \nThe details: \n\nWednesday\, 29 April 2026\nThe Narrows\, Portaferry\n9:30am–3:00pm\n\n  \nFull agenda coming soon. Mark your calendar!
URL:https://ioln.ie/event/exploring-marine-identity-at-strangford-lough/
ATTACH;FMTTYPE=image/png:https://ioln.ie/wp-content/uploads/2026/03/Save-the-dates-2.png
END:VEVENT
END:VCALENDAR